Workbook

Sheet Etusivu
A1: Ideana on kerätä tietoa omasta toiminnasta koko vuoden ajalta
A2: Lisää rivejä ja laskukaavoja oman toimintasi mukaisesti
A3: Tarkista ja päivitä päästökertoimet vuosittain. Lähteistä löydät linkit päästökertoimiin
A6: Työkalu on alunperin tuotettu osana DECIDE-Developing Circular Design -hanketta
A7: ja päivitetty EU:n osarahoittamassa KASVA-Kestävää kasvua mikro- ja pienyrityksiin TKI-toimijoiden ja yrityspalveluiden maakunnallisella yhteistyöllä -hankkeessa keväällä 2025
A8: Vuoden 2026 päivitys on tehty osana EU:n osarahoittamaa Keski-Pohjanmaan Vastuullisuuskumppanit-hanketta
A40: Lisätietoja
A41: Hanna Tölli
A42: Centria-ammattikorkeakoulu
A43: hanna.tolli@centria.fi

Sheet Scope 1
A1: Scope 1 | D1: Vuosi / kk
D2: 2026
A3: Omassa omistuksessa | C3: Suure | D3: 1 | E3: 2 | F3: 3 | G3: 4 | H3: 5 | I3: 6 | J3: 7 | K3: 8 | L3: 9 | M3: 10 | N3: 11 | O3: 12 | P3: Yhteensä | Q3: kgCO2e
A5: Yrityksen omistamien ajoneuvojen polttoaineenkulutus | E5: (Liikkuva poltto)
B6: Kaasutrukki | C6: h | P6: =SUM(D6:O6) -> 0 | Q6: =P6*S6*Päästökertoimet!D12 -> 0 | R6: Trukin keskimääräinen kulutus kg/h | S6: 3
B7: Diesel | C7: l | P7: =SUM(D7:O7) -> 0 | Q7: =P7*S7*Päästökertoimet!D13 -> 0 | R7: Dieselin oletustiheys kg/l | S7: 0.807
B8: Bensa | C8: l | P8: =SUM(D8:O8) -> 0 | Q8: =P8*S8*Päästökertoimet!D14 -> 0 | R8: Bensan oletustiheys kg/l | S8: 0.744
B9: Bensa | C9: km | P9: =SUM(D9:O9) -> 0 | R9: keskimääräinen kulutus
A11: Laitteistojen tahalliset/tahattomat vuodot | D11: (Hajapäästöt)
B12: R404a | C12: kg | P12: =SUM(D12:O12) -> 0 | Q12: =Päästökertoimet!D29 -> 3943
C13: kg | P13: =SUM(D13:O13) -> 0 | Q13: =P13*Päästökertoimet!E291384 -> 0
C14: kg | P14: =SUM(D14:O14) -> 0 | Q14: =P14*Päästökertoimet!E29 -> 0
C15: kg | P15: =SUM(D15:O15) -> 0 | Q15: =P15*Päästökertoimet!E30 -> 0
A18: Oma lämmöntuotanto | D18: (Paikallaan tapahtuva poltto)
A19: Esimerkki | B19: pelletti | C19: kg (t) | P19: =SUM(D19:O19) -> 0 | Q19: =P19*Päästökertoimet!D48*1000 -> 0 | S19: huom. Uusiutuva biomassa
B20: puu (halko) | C20: kg (t) | P20: =SUM(D20:O20) -> 0 | Q20: =P20*Päästökertoimet!D52*1000 -> 0 | S20: huom. Uusiutuva biomassa
B21: öljy | C21: l | P21: =SUM(D21:O21) -> 0 | Q21: =P21*S21*Päästökertoimet!D54 -> 0 | R21: Kevyt polttoöljyn oletustiheys kg/l | S21: 0.83
A23: Prosessipäästöt | D23: (Prosessit, joista vapautuu hiilidioksidia)
P24: =SUM(D24:O24) -> 0
P25: =SUM(D25:O25) -> 0 | Q25: =P25*Päästökertoimet!E31 -> 0
P26: =SUM(D26:O26) -> 0 | Q26: =P26*Päästökertoimet!E31 -> 0
B30: Scope 1 päästöt yhteensä | Q30: =SUM(Q7:Q8,Q12:Q15,Q18:Q21) -> 3943
B34: Paikallaan tapahtuva poltto: polttoaineiden poltto kiinteissä laitteissa, kuten: polttolaitoksissa: kattiloissa, uuneissa, polttimissa, turbiineissa, lämmittimissä, moottoreissa, soihtupolttimissa jne.
B35: Liikkuva poltto: polttoaineiden poltto liikennevälineissä, kuten: autoissa, kuorma-autoissa, linja-autoissa, junissa, lentokoneissa, veneissä, laivoissa, proomuissa, aluksissa jne.
B36: Prosessipäästöt: fysikaalisista tai kemiallisista prosesseista aiheutuvat päästöt, kuten: katalyyttisen krakkauksen hiilidioksidipäästöt petrokemian prosessoinnissa, alumiinin sulatuksen PFC-päästöt jne.
B37: Hajapäästöt: tahalliset ja tahattomat päästöt, kuten: Laitevuodot liitoksista, tiivisteistä, pakkauksista, tiivisteistä sekä hajapäästöt hiilikasoista, jäteveden käsittelystä, kaivoksista, jäähdytystorneista, kaasunkäsittelylaitoksista jne.
B39: Polttoaineen kulutuksen aiheuttamat päästöt (tCO2ekv.): [Vuoden polttoaineen kulutus (t) * (Tehollinen oletuslämpöarvo käyttötilassa (GJ/t) * 10-3 )] * CO2 oletuspäästökerroin (tCO2ekv. /TJ)

Sheet Scope 2
A1: Scope 2 | D1: Vuosi / kk
A2: Kategoria | B2: Tarkennus | C2: Suure | D2: 2026
D3: 1 | E3: 2 | F3: 3 | G3: 4 | H3: 5 | I3: 6 | J3: 7 | K3: 8 | L3: 9 | M3: 10 | N3: 11 | O3: 12 | P3: Yhteensä | Q3: kgCO2e
A4: Ostetut hyödykkeet
B6: Sähkö | C6: kWh | P6: =SUM(D6:O6) -> 0 | Q6: =((P6*Päästökertoimet!D45)/1000) -> 0
B7: Lämpö | P7: =SUM(D7:O7) -> 0 | Q7: =P7*Päästökertoimet!E41 -> 0
B8: Höyry | P8: =SUM(D8:O8) -> 0
B9: Jäähdytys | P9: =SUM(D9:O9) -> 0
B12: Scope 2 päästöt yhteensä | Q12: =SUM(Q6:Q13) -> 0
B15: Huom! Kertoimena käytetään paikallisia kertoimia
B16: Esim. Kaukolämmölle: https://www.klpaastolaskuri.fi/
B17: Sähköntuotannon ja -kulutuksen CO2-päästöarviot - Fingrid
B19: Sähköenergian kulutuksen aiheuttamat päästöt (tCO2ekv.): Sähköenergian kulutus (kWh) * Ostetun sähköenergian päästökerroin (tCO2ekv. /kWh)

Sheet Scope 3
A1: Scope 3 | D1: Vuosi / kk
A2: Kategoria | B2: Tarkennus | C2: Suure | D2: 2026
D3: 1 | E3: 2 | F3: 3 | G3: 4 | H3: 5 | I3: 6 | J3: 7 | K3: 8 | L3: 9 | M3: 10 | N3: 11 | O3: 12 | P3: Yhteensä | Q3: kgCO2e
A4: Ostetut tuotteet ja palvelut
A6: Kuljetus ja jakelu | C6: km/kulutus l
A7: Esimerkki | B7: Raaka-aineet paikan päälle | P7: =SUM(D7:O7) -> 0
A8: Esimerkki | B8: Tuotteiden kuljetus asiakkaille | P8: =SUM(D8:O8) -> 0
A9: Esimerkki | B9: Jätteiden kuljetus (kts. Kohta jätteet) | P9: =SUM(D9:O9) -> 0
A10: Esimerkki | B10: Myös pakkausmateriaalit ja muut tarvittavat materiaalit | P10: =SUM(D10:O10) -> 0
A11: Esimerkki | B11: Muiden hankintojen (Esim.pakkausmateriaalit) kuljetukset | P11: =SUM(D11:O11) -> 0
A12: Esimerkki | B12: Työsuhdeauto (leasing)* | P12: =SUM(D12:O12) -> 0 | Q12: =P12*Päästökertoimet!E19 -> 0
A13: Esimerkki | B13: Työmatkat ja liikematkat | P13: =SUM(D13:O13) -> 0
A15: Jätteet | B15: prosessointi jätelaitoksella
B16: Sekajäte | P16: =SUM(D16:O16) -> 0
B17: Biojäte | P17: =SUM(D17:O17) -> 0
B18: Muovi | P18: =SUM(D18:O18) -> 0
A20: Sivutuote
B21: Oman tuotannon sivuvirrat | P21: =SUM(D21:O21) -> 0
A23: Ulos vuokrattu omaisuus
B24: Tilat vuokrattu muille | P24: =SUM(D24:O24) -> 0
A26: Vuokratut tilat | C26: MWh
B27: Omaan käyttöön vuokratut tilat & sähkö | P27: =SUM(D27:O27) -> 0
A29: Elinkaaren loppu
B30: Käytön jälkeen pakkausmateriaalit | P30: =SUM(D30:O30) -> 0
B31: Hävikki | P31: =SUM(D31:O31) -> 0
B32: Energian kulutus käytössä | P32: =SUM(D32:O32) -> 0
B34: Scope 3 päästöt yhteensä | Q34: =SUM(Q7:Q13,Q16:Q18,Q21,Q24,Q27:Q28,Q30:Q32) -> 0
A35: *keskimääräinen kuljetusmatka, minkä kokoinen kuljetuskalusto ja auton kulutus = päästö
B38: 1.Ostetut tuotteet ja palvelut (Upstream Purchased Goods and Services)
B39: 2.Investoinnit (Upstream Capital Goods)
B40: 3.Polttoaineiden tuotanto ja energiansiirto (Fuel and Energy-Related Activities Not Incl. in Scope 1 or 2)
B41: 4.Kuljetukset ja jakelu (Upstream Transportation and Distribution)
B42: 5.Jätteet (Waste Generated in Operations)
B43: 6.Liikematkustus (Business Travel)
B44: 7.Työmatkaliikenne (Employee Commuting)
B45: 8.Itselle vuokrattu omaisuus (Upstream Leased Assets)
B46: 9.Kuljetukset ja jakelu (Downstream Transportation and Distribution)
B47: 10.Myytyjen tuotteiden prosessointi (Processing of Sold Products)
B48: 11.Myytyjen tuotteiden ja palvelujen käyttö (Use of Sold Products)
B49: 12.Myytyjen tuotteiden käytöstä poisto (End-of-Life Treatment of Sold Products)
...

Sheet Total
B3: Toiminnan aiheuttamat päästöt vuonna 2025
B5: Scope 1 | C5: ='Scope 1'!Q30 -> 3943
B6: Scope 2 | C6: ='Scope 2'!Q12 -> 0
B7: Scope 3 | C7: ='Scope 3'!Q34 -> 0
B8: Total | C8: =SUM(C5:C7) -> 0 | D8: kgCO2e

Sheet Päästökertoimet
B3: Päästökertoimet
B4: Käyttäjän on lisättävä seuraavien vuosien päästökertoimet. Lähteen numero annetaan sarakkeessa G ja Internet-linkki annetaan Lähteet-taulukossa.
B6: Fuels and vehicle emissions | C6: 2025 | D6: 2026 | E6: 2027 | F6: Unit* | G6: Source 2025 | H6: Note | I6: Source 2026 | J6: Note | K6: Source 2027 | L6: Note
B7: Fuel oil | C7: 3.17493 | D7: 3.17 | F7: kgCO2e/l | G7: [1] | I7: [1]
B8: Natural gas | C8: 2.06318 | D8: 2.03 | F8: kgCO2e/m3 | G8: [1] | H8: Natural gas (100% mineral blend) | I8: [1]
B10: Vehicles | C10: 2025 | D10: 2026 | E10: 2027 | F10: Unit* | G10: Source 2025 | H10: Note | I10: Source 2026 | J10: Note | K10: Source 2027 | L10: Note
B11: Forklift, diesel | C11: 2.51279 | D11: 2.58 | F11: kgCO2e/l | G11: [1] | H11: Diesel (average biofuel blend) | I11: [1]
B12: Forklift, liquid gas | C12: 1.55713 | D12: 3.005 | F12: kgCO2e | G12: [1] | H12: LPG | I12: [12] | J12: Nestekaasu
B13: Car, average, diesel (kg) | C13: 2.35 | D13: 2.38 | F13: kgCO2e | G13: [1] | H13: Emission factor is from average of highway and urban driving | I13: [12] | J13: Dieselöljy
B14: Car, average petrol (kg) | C14: 0.1645 | D14: 2.9187 | F14: kgCO2e | G14: [1] | H14: Emission factor is from average of highway and urban driving | I14: [12] | J14: Bensiiniseos
B15: Car, average hybrid (km) | C15: 0.12617 | D15: 0.12 | F15: kgCO2e/km | G15: [1] | H15: Diesel (average biofuel blend) | I15: [1]
B16: Car, gasoline (km) | C16: 0.159 | F16: kgCO2e/km | G16: [8] | H16: Emission factor is from average of highway and urban driving
B17: Car, gasoline (litres) | C17: 2.0844 | D17: 2.2 | F17: kgCO2e/l | G17: [1] | H17: Petrol (100% average biofuel blend)
B18: Car, gas (compressed natural gas) (km) | C18: =70.1/1000 -> 0.0701 | F18: kgCO2e/km | G18: [9] | H18: Emission factor is from average of highway and urban driving
B19: Car, gas (compressed natural gas) (m3) | C19: 2.06318 | F19: kgCO2e/m3 | G19: [1] | H19: Natural gas (100% mineral blend)
B20: Car, Neste MY (km) | C20: 0 | F20: kgCO2e/km | G20: [6] | H20: Tank-to-wheel (TTW) emissions (use stage) | I20: [14] | J20: kgCO₂e/km = kgCO₂e/l × kulutus (l/100 km) / 100
B21: Car, Neste MY (litres) | C21: 0 | D21: 0.323 | F21: kgCO2e/l | G21: [6] | H21: Tank-to-wheel (TTW) emissions (use stage) | I21: [14] | J21: Tank-to-Wheel (poltossa syntyvät päästöt) → biopolttoaineelle usein käsitellään erikseen biogeeninen CO₂. Well-to-Wheel / elinkaaripäästöt → Neste MY:n kaltaisille uusiutuville polttoaineille usein ilmoitettu suuri päästövähennys perustuu tähän näkökulmaan.
B22: Van, diesel, empty, highway driving | C22: 0.185 | F22: kgCO2e/km | G22: [3]
B23: Van, diesel, full load (1,2t), highway driving | C23: 0.208 | F23: kgCO2e/km | G23: [3]
B24: Van, diesel, empty, urban driving | C24: 0.232 | F24: kgCO2e/km | G24: [4]
B25: Van, diesel, full load (1,2t), urban driving | C25: 0.279 | F25: kgCO2e/km | G25: [4]
B27: Refrigerant leaks | C27: 2025 | D27: 2026 | E27: 2027 | F27: Unit* | G27: Source 2025 | H27: Note | I27: Source 2026 | J27: Note | K27: Source 2027 | L27: Note
B28: R437A | D28: 1639 | F28: kgCO2e/kg | G28: [1] | I28: [1]
B29: R404A | D29: 3943 | F29: kgCO2e/kg | G29: [1] | I29: [1]
B30: R410A | D30: 1924 | F30: kgCO2e/kg | G30: [1] | I30: [1]
B31: R407A | D31: 1923 | F31: kgCO2e/kg | G31: [1] | I31: [1]
B32: R407F | D32: 1674 | F32: kgCO2e/kg | G32: [1] | I32: [1]
B33: R407C | D33: 1624 | F33: kgCO2e/kg | G33: [1] | I33: [1]
B35: Direct emissions from process | C35: 2025 | D35: 2026 | E35: 2027 | F35: Unit* | G35: Source 2025 | H35: Note | I35: Source 2026 | J35: Note | K35: Source 2027 | L35: Note
B36: N2O | C36: 273 | F36: kgCO2e/kg | G36: [11] | J36: Note that new AR6 has updated values for year 2022 onwards.
B37: CH4 (non fossil) | C37: 27 | F37: kgCO2e/kg | G37: [11]
B38: CO2 | C38: 1 | F38: kgCO2e/kg | G38: [11]
B40: Purchased energy | C40: 2025 | D40: 2026 | E40: 2027 | F40: Unit* | G40: Source 2025 | H40: Note | I40: Source 2026 | J40: Note | K40: Source 2027 | L40: Note
B41: District heating, own energy company | C41: 0 | F41: kgCO2e/MWh | G41: [add]
B42: District cooling, own energy company | F42: kgCO2e/MWh | G42: [add]
B43: Electricity, Carbon neutral | C43: 0 | D43: 0 | E43: 0 | F43: kgCO2e/MWh | G43: [10]
B44: Electricity, own energy company | F44: kgCO2e/MWh | G44: [add]
B45: Electricity (source not known) | D45: 45 | F45: gCO2e/kWh | G45: [] | H45: Residual mix factor (suom. jäännösjakauman mukainen päästökerroin). Used in market based calculation. | I45: [5] | J45: keskimääräinen arvio
B46: Biogas | C46: 0.00023 | D46: 0.00022 | F46: kgCO2e/kWh | G46: [1] | I46: [1]
B47: Electricity, Finnish Average | C47: 60 | D47: 45 | F47: kgCO2e/MWh | G47: [5] | H47: Päästökertoimessa on huomioitu vain kotimainen energiantuotanto eli tuontisähkö ei ole mukana | I47: [5] | J47: Päästökertoimessa on huomioitu vain kotimainen energiantuotanto eli tuontisähkö ei ole mukana.
...

Sheet Lähteet
B3: Sources
B5: Number | C5: Source
B6: [1] | C6: ghg-conversion-factors-2026-full-set: https://view.officeapps.live.com/op/view.aspx?src=https%3A%2F%2Fassets.publishing.service.gov.uk%2Fmedia%2F6a29392bade52dc0882218a8%2Fghg-conversion-factors-2026-full-set.xlsx&wdOrigin=BROWSELINK
B7: [2] | C7: VTT Lipasto: http://lipasto.vtt.fi/yksikkopaastot/henkiloliikennee/tieliikennee/henkiloautote/hakeskimaarine.htm
B8: [3] | C8: VTT Lipasto: http://lipasto.vtt.fi/yksikkopaastot/tavaraliikennee/tieliikennee/padiestiee.htm
B9: [4] | C9: VTT Lipasto: http://lipasto.vtt.fi/yksikkopaastot/tavaraliikennee/tieliikennee/padieskatue.htm
B10: [5] | C10: CO2-päästökertoimet - Motiva
B11: [6] | C11: NesteOyj: https://www.neste.com/products/all-products/renewable-road-transport/reduced-emissions#8db81a90
B12: [7] | C12: VTT Lipasto: http://lipasto.vtt.fi/yksikkopaastot/henkiloliikennee/tieliikennee/henkiloautote/hadiese.htm
B13: [8] | C13: VTT Lipasto: http://lipasto.vtt.fi/yksikkopaastot/henkiloliikennee/tieliikennee/henkiloautote/habense.htm
B14: [9] | C14: VTT Lipasto: http://lipasto.vtt.fi/yksikkopaastot/henkiloliikennee/tieliikennee/henkiloautote/hakaasue.htm
B15: [10] | C15: Sähköntuotannon ja -kulutuksen CO2-päästöarviot - Fingrid
B16: [11] | C16: Microsoft Word - Global-Warming-Potential-Values.docx
... B20: [15] | C20: KUORMA_PAKETTIAUTOT_KÄYTTÖOPAS JA LASKENNAN PERUSTEET.pdf
C27: Huom! LIIKE-päästölaskentajärjestelmä tulossa käyttöön piakkoin: https://stat.fi/org/tilastokeskus/toiminnan_suunnittelu/liike-paastolaskentajarjestelma.html
C28: Korvaa VTT:n Lipastotiedot
B30: ** | C30: Polttoaineen kulutuksen aiheuttamat päästöt (tCO2ekv.): [Vuoden polttoaineen kulutus (t) * (Tehollinen oletuslämpöarvo käyttötilassa (GJ/t) * 10-3 )] * CO2 oletuspäästökerroin (tCO2ekv. /TJ)
B31: ** | C31: Sähköenergian kulutuksen aiheuttamat päästöt (tCO2ekv.): Sähköenergian kulutus (kWh) * Ostetun sähköenergian päästökerroin (tCO2ekv. /kWh)
